
BEGIN:VCALENDAR
VERSION:2.0
PRODID:-//hacksw/handcal//NONSGML v1.0//EN
CALSCALE:GREGORIAN
BEGIN:VEVENT
DTSTART:20231213T180045Z
DTEND:20231213T190045Z
SUMMARY:Jan Mráz / Přes Balkán do Gruzie a zpět
DTSTAMP:20260421T084106Z
UID:69e73822544e9
END:VEVENT
END:VCALENDAR