
BEGIN:VCALENDAR
VERSION:2.0
PRODID:-//hacksw/handcal//NONSGML v1.0//EN
CALSCALE:GREGORIAN
BEGIN:VEVENT
DTSTART:20230904T180046Z
DTEND:20230904T190046Z
SUMMARY:Super Mario Bros. ve filmu
DTSTAMP:20260421T105338Z
UID:69e75732496b0
END:VEVENT
END:VCALENDAR