
BEGIN:VCALENDAR
VERSION:2.0
PRODID:-//hacksw/handcal//NONSGML v1.0//EN
CALSCALE:GREGORIAN
BEGIN:VEVENT
DTSTART:20230824T200054Z
DTEND:20230824T210054Z
SUMMARY:Letní kino  Za vším hledej ženu
DTSTAMP:20260421T102247Z
UID:69e74ff7a3d1a
END:VEVENT
END:VCALENDAR