
BEGIN:VCALENDAR
VERSION:2.0
PRODID:-//hacksw/handcal//NONSGML v1.0//EN
CALSCALE:GREGORIAN
BEGIN:VEVENT
DTSTART:20230803T200039Z
DTEND:20230803T210039Z
SUMMARY:Letní kino  Ostrov
DTSTAMP:20260421T102309Z
UID:69e7500dbf4b6
END:VEVENT
END:VCALENDAR