
BEGIN:VCALENDAR
VERSION:2.0
PRODID:-//hacksw/handcal//NONSGML v1.0//EN
CALSCALE:GREGORIAN
BEGIN:VEVENT
DTSTART:20230629T180016Z
DTEND:20230629T190016Z
SUMMARY:Myška Pattie: Na vlnách dobrodružství
DTSTAMP:20260421T102247Z
UID:69e74ff7a3ce5
END:VEVENT
END:VCALENDAR