
BEGIN:VCALENDAR
VERSION:2.0
PRODID:-//hacksw/handcal//NONSGML v1.0//EN
CALSCALE:GREGORIAN
BEGIN:VEVENT
DTSTART:20230504T180052Z
DTEND:20230504T190052Z
SUMMARY:Sbírka zlozvyků – workshop
DTSTAMP:20260419T162145Z
UID:69e501196f82d
END:VEVENT
END:VCALENDAR