
BEGIN:VCALENDAR
VERSION:2.0
PRODID:-//hacksw/handcal//NONSGML v1.0//EN
CALSCALE:GREGORIAN
BEGIN:VEVENT
DTSTART:20230529T180008Z
DTEND:20230529T190008Z
SUMMARY:David Hainall / Toulky Siamem  zemí bílého slona
DTSTAMP:20260421T121238Z
UID:69e769b64227e
END:VEVENT
END:VCALENDAR