
BEGIN:VCALENDAR
VERSION:2.0
PRODID:-//hacksw/handcal//NONSGML v1.0//EN
CALSCALE:GREGORIAN
BEGIN:VEVENT
DTSTART:20230131T180008Z
DTEND:20230131T190008Z
SUMMARY:Novoroční koncert  Dasha a Pajky Pajk Quintet
DTSTAMP:20260421T134400Z
UID:69e77f20a76ea
END:VEVENT
END:VCALENDAR