
BEGIN:VCALENDAR
VERSION:2.0
PRODID:-//hacksw/handcal//NONSGML v1.0//EN
CALSCALE:GREGORIAN
BEGIN:VEVENT
DTSTART:20230118T180029Z
DTEND:20230118T190029Z
SUMMARY:Petr Kosek / Continental Divide Trail – 4500 km pěšky Skalistými horami
DTSTAMP:20260421T134457Z
UID:69e77f59d6498
END:VEVENT
END:VCALENDAR