
BEGIN:VCALENDAR
VERSION:2.0
PRODID:-//hacksw/handcal//NONSGML v1.0//EN
CALSCALE:GREGORIAN
BEGIN:VEVENT
DTSTART:20221130T180018Z
DTEND:20221130T190018Z
SUMMARY:Diashow Saši Ryvolové – Island  krajina sopek a ledovců
DTSTAMP:20260421T153416Z
UID:69e798f8bbc90
END:VEVENT
END:VCALENDAR