
BEGIN:VCALENDAR
VERSION:2.0
PRODID:-//hacksw/handcal//NONSGML v1.0//EN
CALSCALE:GREGORIAN
BEGIN:VEVENT
DTSTART:20221102T180045Z
DTEND:20221102T190045Z
SUMMARY:Diashow Adély Pegleyové – Hebron – Železná opona Blízkého východu
DTSTAMP:20260421T154506Z
UID:69e79b82ced5c
END:VEVENT
END:VCALENDAR