
BEGIN:VCALENDAR
VERSION:2.0
PRODID:-//hacksw/handcal//NONSGML v1.0//EN
CALSCALE:GREGORIAN
BEGIN:VEVENT
DTSTART:20221012T180053Z
DTEND:20221012T190053Z
SUMMARY:Diashow Hany Machalové  Jordánsko
DTSTAMP:20260421T153628Z
UID:69e7997c783dc
END:VEVENT
END:VCALENDAR