
BEGIN:VCALENDAR
VERSION:2.0
PRODID:-//hacksw/handcal//NONSGML v1.0//EN
CALSCALE:GREGORIAN
BEGIN:VEVENT
DTSTART:20221005T180024Z
DTEND:20221005T190024Z
SUMMARY:Planeta Praha
DTSTAMP:20260421T154020Z
UID:69e79a6459ba3
END:VEVENT
END:VCALENDAR