
BEGIN:VCALENDAR
VERSION:2.0
PRODID:-//hacksw/handcal//NONSGML v1.0//EN
CALSCALE:GREGORIAN
BEGIN:VEVENT
DTSTART:20220914T180048Z
DTEND:20220914T190048Z
SUMMARY:Diashow Ondřeje Macky  Čína: Himalájem a pouští Gobi
DTSTAMP:20260421T153110Z
UID:69e7983e9e69d
END:VEVENT
END:VCALENDAR