
BEGIN:VCALENDAR
VERSION:2.0
PRODID:-//hacksw/handcal//NONSGML v1.0//EN
CALSCALE:GREGORIAN
BEGIN:VEVENT
DTSTART:20220825T200059Z
DTEND:20220825T210059Z
SUMMARY:Letní kino Na Karmeli  Srdce na dlani
DTSTAMP:20260421T154506Z
UID:69e79b82ce19a
END:VEVENT
END:VCALENDAR