
BEGIN:VCALENDAR
VERSION:2.0
PRODID:-//hacksw/handcal//NONSGML v1.0//EN
CALSCALE:GREGORIAN
BEGIN:VEVENT
DTSTART:20220707T203047Z
DTEND:20220707T213047Z
SUMMARY:Letní kino Na Karmeli  Vyšehrad Fylm
DTSTAMP:20260421T172138Z
UID:69e7b22220719
END:VEVENT
END:VCALENDAR