
BEGIN:VCALENDAR
VERSION:2.0
PRODID:-//hacksw/handcal//NONSGML v1.0//EN
CALSCALE:GREGORIAN
BEGIN:VEVENT
DTSTART:20220518T180012Z
DTEND:20220518T190012Z
SUMMARY:Diashow Martina Půlpána: Lost Czech Man – Hedvábná Stezka – pěšky a stopem z Evropy do Číny
DTSTAMP:20260421T174515Z
UID:69e7b7aba166e
END:VEVENT
END:VCALENDAR