
BEGIN:VCALENDAR
VERSION:2.0
PRODID:-//hacksw/handcal//NONSGML v1.0//EN
CALSCALE:GREGORIAN
BEGIN:VEVENT
DTSTART:20220505T180004Z
DTEND:20220505T190004Z
SUMMARY:Diashow Vojtěcha Lokši: Omán
DTSTAMP:20260421T172155Z
UID:69e7b23328162
END:VEVENT
END:VCALENDAR