
BEGIN:VCALENDAR
VERSION:2.0
PRODID:-//hacksw/handcal//NONSGML v1.0//EN
CALSCALE:GREGORIAN
BEGIN:VEVENT
DTSTART:20220511T180035Z
DTEND:20220511T190035Z
SUMMARY:Diashow Radky Tkáčikové: Namibie
DTSTAMP:20260421T172138Z
UID:69e7b2221e8ee
END:VEVENT
END:VCALENDAR