
BEGIN:VCALENDAR
VERSION:2.0
PRODID:-//hacksw/handcal//NONSGML v1.0//EN
CALSCALE:GREGORIAN
BEGIN:VEVENT
DTSTART:20211219T130050Z
DTEND:20211219T140050Z
SUMMARY:Poupěnka a Štístko: Ať žijí pohádky!
DTSTAMP:20260419T163220Z
UID:69e50394626ce
END:VEVENT
END:VCALENDAR