
BEGIN:VCALENDAR
VERSION:2.0
PRODID:-//hacksw/handcal//NONSGML v1.0//EN
CALSCALE:GREGORIAN
BEGIN:VEVENT
DTSTART:20211111T180015Z
DTEND:20211111T190015Z
SUMMARY:Cestujte chytře\, levně a často
DTSTAMP:20260421T184702Z
UID:69e7c6268ca5e
END:VEVENT
END:VCALENDAR