
BEGIN:VCALENDAR
VERSION:2.0
PRODID:-//hacksw/handcal//NONSGML v1.0//EN
CALSCALE:GREGORIAN
BEGIN:VEVENT
DTSTART:20211014T180005Z
DTEND:20211014T190005Z
SUMMARY:Lost Czech Man: JIHOVÝCHODNÍ ASIE – PĚŠKY A STOPEM
DTSTAMP:20260421T190739Z
UID:69e7cafb34b8b
END:VEVENT
END:VCALENDAR