
BEGIN:VCALENDAR
VERSION:2.0
PRODID:-//hacksw/handcal//NONSGML v1.0//EN
CALSCALE:GREGORIAN
BEGIN:VEVENT
DTSTART:20210722T203038Z
DTEND:20210722T213038Z
SUMMARY:Letní kino Na Karmeli  Salvador Dalí: Hledání nesmrtelnosti
DTSTAMP:20260421T190707Z
UID:69e7cadb4b08c
END:VEVENT
END:VCALENDAR