
BEGIN:VCALENDAR
VERSION:2.0
PRODID:-//hacksw/handcal//NONSGML v1.0//EN
CALSCALE:GREGORIAN
BEGIN:VEVENT
DTSTART:20210715T203009Z
DTEND:20210715T213009Z
SUMMARY:Letní kino Na Karmeli  Téměř dokonalá tajemství
DTSTAMP:20260421T203750Z
UID:69e7e01e2c516
END:VEVENT
END:VCALENDAR