
BEGIN:VCALENDAR
VERSION:2.0
PRODID:-//hacksw/handcal//NONSGML v1.0//EN
CALSCALE:GREGORIAN
BEGIN:VEVENT
DTSTART:20201203T070016Z
DTEND:20201203T080016Z
SUMMARY:Tipy na vánoční dárek
DTSTAMP:20260421T203708Z
UID:69e7dff4d75b1
END:VEVENT
END:VCALENDAR