
BEGIN:VCALENDAR
VERSION:2.0
PRODID:-//hacksw/handcal//NONSGML v1.0//EN
CALSCALE:GREGORIAN
BEGIN:VEVENT
DTSTART:20211001T180042Z
DTEND:20211001T190042Z
SUMMARY:Čochtan vypravuje  divadlo
DTSTAMP:20260421T184703Z
UID:69e7c6271f61e
END:VEVENT
END:VCALENDAR