
BEGIN:VCALENDAR
VERSION:2.0
PRODID:-//hacksw/handcal//NONSGML v1.0//EN
CALSCALE:GREGORIAN
BEGIN:VEVENT
DTSTART:20210126T180043Z
DTEND:20210126T190043Z
SUMMARY:Lost Czech Man  Hedvábná stezka
DTSTAMP:20260421T203750Z
UID:69e7e01e2c551
END:VEVENT
END:VCALENDAR