
BEGIN:VCALENDAR
VERSION:2.0
PRODID:-//hacksw/handcal//NONSGML v1.0//EN
CALSCALE:GREGORIAN
BEGIN:VEVENT
DTSTART:20201110T154216Z
DTEND:20201110T164216Z
SUMMARY:Hledá se mistr Mladoboleslavska!
DTSTAMP:20260421T221031Z
UID:69e7f5d7a9c7d
END:VEVENT
END:VCALENDAR