
BEGIN:VCALENDAR
VERSION:2.0
PRODID:-//hacksw/handcal//NONSGML v1.0//EN
CALSCALE:GREGORIAN
BEGIN:VEVENT
DTSTART:20201214T080007Z
DTEND:20201214T090007Z
SUMMARY:Management diverzity  online kurz ŠAVŠ
DTSTAMP:20260421T203833Z
UID:69e7e04954484
END:VEVENT
END:VCALENDAR