
BEGIN:VCALENDAR
VERSION:2.0
PRODID:-//hacksw/handcal//NONSGML v1.0//EN
CALSCALE:GREGORIAN
BEGIN:VEVENT
DTSTART:20201121T150026Z
DTEND:20201121T160026Z
SUMMARY:Snow Film Fest ZRUŠENO
DTSTAMP:20260421T221157Z
UID:69e7f62d77fd7
END:VEVENT
END:VCALENDAR