
BEGIN:VCALENDAR
VERSION:2.0
PRODID:-//hacksw/handcal//NONSGML v1.0//EN
CALSCALE:GREGORIAN
BEGIN:VEVENT
DTSTART:20200813T071052Z
DTEND:20200813T081052Z
SUMMARY:Vrácení vstupného za zrušená představení do konce října
DTSTAMP:20260421T223157Z
UID:69e7fadd53902
END:VEVENT
END:VCALENDAR