
BEGIN:VCALENDAR
VERSION:2.0
PRODID:-//hacksw/handcal//NONSGML v1.0//EN
CALSCALE:GREGORIAN
BEGIN:VEVENT
DTSTART:20201103T180051Z
DTEND:20201103T190051Z
SUMMARY:Vladimír Lemberk: Všechny barvy Kanady ZRUŠENO
DTSTAMP:20260421T221031Z
UID:69e7f5d79f863
END:VEVENT
END:VCALENDAR