
BEGIN:VCALENDAR
VERSION:2.0
PRODID:-//hacksw/handcal//NONSGML v1.0//EN
CALSCALE:GREGORIAN
BEGIN:VEVENT
DTSTART:20201008T180034Z
DTEND:20201008T190034Z
SUMMARY:Tomáš Šapovalov  Nový Zéland ZRUŠENO
DTSTAMP:20260421T221009Z
UID:69e7f5c1e1cb0
END:VEVENT
END:VCALENDAR