
BEGIN:VCALENDAR
VERSION:2.0
PRODID:-//hacksw/handcal//NONSGML v1.0//EN
CALSCALE:GREGORIAN
BEGIN:VEVENT
DTSTART:20200625T203042Z
DTEND:20200625T213042Z
SUMMARY:Letní kino Na Karmeli  Přes prsty
DTSTAMP:20260421T102155Z
UID:69e74fc3c8602
END:VEVENT
END:VCALENDAR