
BEGIN:VCALENDAR
VERSION:2.0
PRODID:-//hacksw/handcal//NONSGML v1.0//EN
CALSCALE:GREGORIAN
BEGIN:VEVENT
DTSTART:20200618T203028Z
DTEND:20200618T213028Z
SUMMARY:Letní kino Na Karmeli  18.06.2020 ZRUŠENO
DTSTAMP:20260421T102202Z
UID:69e74fcaa604f
END:VEVENT
END:VCALENDAR