
BEGIN:VCALENDAR
VERSION:2.0
PRODID:-//hacksw/handcal//NONSGML v1.0//EN
CALSCALE:GREGORIAN
BEGIN:VEVENT
DTSTART:20200608T080044Z
DTEND:20200608T090044Z
SUMMARY:Trapas nepřežiju aneb Ten řízek nezvedej
DTSTAMP:20260421T102309Z
UID:69e7500dcae3d
END:VEVENT
END:VCALENDAR