
BEGIN:VCALENDAR
VERSION:2.0
PRODID:-//hacksw/handcal//NONSGML v1.0//EN
CALSCALE:GREGORIAN
BEGIN:VEVENT
DTSTART:20200401T180018Z
DTEND:20200401T190018Z
SUMMARY:Knihovna palmových listů  Rodina\, partnerství a proroctví pro rok 2020
DTSTAMP:20260422T011515Z
UID:69e8212361d2b
END:VEVENT
END:VCALENDAR