
BEGIN:VCALENDAR
VERSION:2.0
PRODID:-//hacksw/handcal//NONSGML v1.0//EN
CALSCALE:GREGORIAN
BEGIN:VEVENT
DTSTART:20200229T090032Z
DTEND:20200229T100032Z
SUMMARY:RC Truck show  akce nejen pro děti
DTSTAMP:20260422T014734Z
UID:69e828b69a625
END:VEVENT
END:VCALENDAR