
BEGIN:VCALENDAR
VERSION:2.0
PRODID:-//hacksw/handcal//NONSGML v1.0//EN
CALSCALE:GREGORIAN
BEGIN:VEVENT
DTSTART:20200416T180006Z
DTEND:20200416T190006Z
SUMMARY:Nakafráno: Ve stodole u slepic
DTSTAMP:20260422T011515Z
UID:69e82123d797d
END:VEVENT
END:VCALENDAR