
BEGIN:VCALENDAR
VERSION:2.0
PRODID:-//hacksw/handcal//NONSGML v1.0//EN
CALSCALE:GREGORIAN
BEGIN:VEVENT
DTSTART:20191224T180018Z
DTEND:20191224T190018Z
SUMMARY:Tipy na vánoční dárek
DTSTAMP:20260422T025450Z
UID:69e8387ac841d
END:VEVENT
END:VCALENDAR