
BEGIN:VCALENDAR
VERSION:2.0
PRODID:-//hacksw/handcal//NONSGML v1.0//EN
CALSCALE:GREGORIAN
BEGIN:VEVENT
DTSTART:20200206T180048Z
DTEND:20200206T190048Z
SUMMARY:Borneo krásné i drsné
DTSTAMP:20260422T011617Z
UID:69e82161835c9
END:VEVENT
END:VCALENDAR