
BEGIN:VCALENDAR
VERSION:2.0
PRODID:-//hacksw/handcal//NONSGML v1.0//EN
CALSCALE:GREGORIAN
BEGIN:VEVENT
DTSTART:20200122T180054Z
DTEND:20200122T190054Z
SUMMARY:Zlaté vábení Yukonu
DTSTAMP:20260422T025424Z
UID:69e838602e270
END:VEVENT
END:VCALENDAR