
BEGIN:VCALENDAR
VERSION:2.0
PRODID:-//hacksw/handcal//NONSGML v1.0//EN
CALSCALE:GREGORIAN
BEGIN:VEVENT
DTSTART:20200317T180047Z
DTEND:20200317T190047Z
SUMMARY:Lež  Divadelní představení ZRUŠENO
DTSTAMP:20260422T011617Z
UID:69e8216178af4
END:VEVENT
END:VCALENDAR