
BEGIN:VCALENDAR
VERSION:2.0
PRODID:-//hacksw/handcal//NONSGML v1.0//EN
CALSCALE:GREGORIAN
BEGIN:VEVENT
DTSTART:20200305T180030Z
DTEND:20200305T190030Z
SUMMARY:1+1=3 Divadelní představení
DTSTAMP:20260422T013314Z
UID:69e8255a26f5e
END:VEVENT
END:VCALENDAR