
BEGIN:VCALENDAR
VERSION:2.0
PRODID:-//hacksw/handcal//NONSGML v1.0//EN
CALSCALE:GREGORIAN
BEGIN:VEVENT
DTSTART:20190220T180001Z
DTEND:20190220T190001Z
SUMMARY:4 Tenoři koncert  VYPRODÁNO
DTSTAMP:20260422T112350Z
UID:69e8afc63d02e
END:VEVENT
END:VCALENDAR