
BEGIN:VCALENDAR
VERSION:2.0
PRODID:-//hacksw/handcal//NONSGML v1.0//EN
CALSCALE:GREGORIAN
BEGIN:VEVENT
DTSTART:20200210T180025Z
DTEND:20200210T190025Z
SUMMARY:Východní Indonésie  Radka Tkáčiková
DTSTAMP:20260422T014734Z
UID:69e828b69bcc9
END:VEVENT
END:VCALENDAR