
BEGIN:VCALENDAR
VERSION:2.0
PRODID:-//hacksw/handcal//NONSGML v1.0//EN
CALSCALE:GREGORIAN
BEGIN:VEVENT
DTSTART:20191121T170037Z
DTEND:20191121T180037Z
SUMMARY:Partnerství
DTSTAMP:20260422T032813Z
UID:69e8404d251a2
END:VEVENT
END:VCALENDAR