
BEGIN:VCALENDAR
VERSION:2.0
PRODID:-//hacksw/handcal//NONSGML v1.0//EN
CALSCALE:GREGORIAN
BEGIN:VEVENT
DTSTART:20191017T180026Z
DTEND:20191017T190026Z
SUMMARY:Sjezd legendární řeky Muksu v Tájikistánu
DTSTAMP:20260422T045930Z
UID:69e855b27dd7d
END:VEVENT
END:VCALENDAR