
BEGIN:VCALENDAR
VERSION:2.0
PRODID:-//hacksw/handcal//NONSGML v1.0//EN
CALSCALE:GREGORIAN
BEGIN:VEVENT
DTSTART:20190926T170045Z
DTEND:20190926T180045Z
SUMMARY:Síla ženy
DTSTAMP:20260422T043213Z
UID:69e84f4de3a83
END:VEVENT
END:VCALENDAR