
BEGIN:VCALENDAR
VERSION:2.0
PRODID:-//hacksw/handcal//NONSGML v1.0//EN
CALSCALE:GREGORIAN
BEGIN:VEVENT
DTSTART:20190912T170006Z
DTEND:20190912T180006Z
SUMMARY:Jak pracovat se svými stíny
DTSTAMP:20260422T052811Z
UID:69e85c6b0d5b3
END:VEVENT
END:VCALENDAR